BEGIN:VCALENDAR
VERSION:2.0
PRODID:-//Squarespace Inc/Squarespace 6//v6//EN
BEGIN:VEVENT
UID:57e4cd3703596e09f4bf4ecf@squarespace.com
DTSTAMP:20160923T064537Z
DTSTART:20161008T223000Z
DTEND:20161009T003000Z
SUMMARY:ALLYSHA JOY
END:VEVENT
END:VCALENDAR
