BEGIN:VCALENDAR
VERSION:2.0
PRODID:-//Squarespace Inc/Squarespace 6//v6//EN
BEGIN:VEVENT
UID:57e4cb8e9de4bb7651410ea8@squarespace.com
DTSTAMP:20160923T063242Z
DTSTART:20161007T220000Z
DTEND:20161008T010000Z
SUMMARY:BEER 'O CLOCK!
END:VEVENT
END:VCALENDAR
