BEGIN:VCALENDAR
VERSION:2.0
PRODID:-//Squarespace Inc/Squarespace 6//v6//EN
BEGIN:VEVENT
UID:57e4c72db8a79b1b1acb8398@squarespace.com
DTSTAMP:20160923T061759Z
DTSTART:20161006T223000Z
DTEND:20161007T003000Z
SUMMARY:GIRL FRIDAY TRIO
END:VEVENT
END:VCALENDAR
