BEGIN:VCALENDAR
VERSION:2.0
PRODID:-//Squarespace Inc/Squarespace 6//v6//EN
BEGIN:VEVENT
UID:580ebf76b3db2b9be8c07ac7@squarespace.com
DTSTAMP:20161025T022636Z
DTSTART:20161031T230000Z
DTEND:20161101T020000Z
SUMMARY:BOO AND WHINE w DJ SUICOBSEN
END:VEVENT
END:VCALENDAR
