BEGIN:VCALENDAR
VERSION:2.0
PRODID:-//Squarespace Inc/Squarespace 6//v6//EN
BEGIN:VEVENT
UID:57e4cff8ff7c50e6a8a16cf6@squarespace.com
DTSTAMP:20160927T055129Z
DTSTART:20161029T223000Z
DTEND:20161030T003000Z
SUMMARY:JACKSON PHELAN
END:VEVENT
END:VCALENDAR
