BEGIN:VCALENDAR
VERSION:2.0
PRODID:-//Squarespace Inc/Squarespace 6//v6//EN
BEGIN:VEVENT
UID:57e4cad5440243ec3809028b@squarespace.com
DTSTAMP:20160923T062616Z
DTSTART:20161028T213000Z
DTEND:20161029T003000Z
SUMMARY:PUB BINGO WITH TREV & SPARX!
END:VEVENT
END:VCALENDAR
