BEGIN:VCALENDAR
VERSION:2.0
PRODID:-//Squarespace Inc/Squarespace 6//v6//EN
BEGIN:VEVENT
UID:57e4cce2e3df28289def18cb@squarespace.com
DTSTAMP:20160923T063445Z
DTSTART:20161028T220000Z
DTEND:20161029T010000Z
SUMMARY:BEER 'O CLOCK!
END:VEVENT
END:VCALENDAR
