BEGIN:VCALENDAR
VERSION:2.0
PRODID:-//Squarespace Inc/Squarespace 6//v6//EN
BEGIN:VEVENT
UID:57e4c9a1ff7c50e6a8a14e1c@squarespace.com
DTSTAMP:20160923T062122Z
DTSTART:20161027T223000Z
DTEND:20161028T003000Z
SUMMARY:GIRL FRIDAY TRIO
END:VEVENT
END:VCALENDAR
