BEGIN:VCALENDAR
VERSION:2.0
PRODID:-//Squarespace Inc/Squarespace 6//v6//EN
BEGIN:VEVENT
UID:57e4cfcaf5e231b14d7766b8@squarespace.com
DTSTAMP:20160923T064709Z
DTSTART:20161022T223000Z
DTEND:20161023T003000Z
SUMMARY:ALLYSHA JOY
END:VEVENT
END:VCALENDAR
