BEGIN:VCALENDAR
VERSION:2.0
PRODID:-//Squarespace Inc/Squarespace 6//v6//EN
BEGIN:VEVENT
UID:57e4ca85ff7c50e6a8a151ba@squarespace.com
DTSTAMP:20160923T062449Z
DTSTART:20161021T213000Z
DTEND:20161022T003000Z
SUMMARY:PUB BINGO WITH TREV & SPARX!
END:VEVENT
END:VCALENDAR
