BEGIN:VCALENDAR
VERSION:2.0
PRODID:-//Squarespace Inc/Squarespace 6//v6//EN
BEGIN:VEVENT
UID:57e4ccbf8419c29418b91a46@squarespace.com
DTSTAMP:20160923T063359Z
DTSTART:20161021T220000Z
DTEND:20161022T010000Z
SUMMARY:BEER 'O CLOCK!
END:VEVENT
END:VCALENDAR
