BEGIN:VCALENDAR
VERSION:2.0
PRODID:-//Squarespace Inc/Squarespace 6//v6//EN
BEGIN:VEVENT
UID:57e4c95a8419c29418b90a10@squarespace.com
DTSTAMP:20160923T062006Z
DTSTART:20161020T223000Z
DTEND:20161021T003000Z
SUMMARY:GIRL FRIDAY TRIO
END:VEVENT
END:VCALENDAR
