BEGIN:VCALENDAR
VERSION:2.0
PRODID:-//Squarespace Inc/Squarespace 6//v6//EN
BEGIN:VEVENT
UID:57e4cf9af5e231b14d7765f6@squarespace.com
DTSTAMP:20160927T055009Z
DTSTART:20161015T223000Z
DTEND:20161016T003000Z
SUMMARY:JACKSON PHELAN
END:VEVENT
END:VCALENDAR
