BEGIN:VCALENDAR
VERSION:2.0
PRODID:-//Squarespace Inc/Squarespace 6//v6//EN
BEGIN:VEVENT
UID:57e4ca543e00bef8827423f4@squarespace.com
DTSTAMP:20160923T062356Z
DTSTART:20161014T213000Z
DTEND:20161015T003000Z
SUMMARY:PUB BINGO WITH TREV & SPARX!
END:VEVENT
END:VCALENDAR
