BEGIN:VCALENDAR
VERSION:2.0
PRODID:-//Squarespace Inc/Squarespace 6//v6//EN
BEGIN:VEVENT
UID:57e4cc96e3df28289def1791@squarespace.com
DTSTAMP:20160923T063324Z
DTSTART:20161014T220000Z
DTEND:20161015T010000Z
SUMMARY:BEER 'O CLOCK!
END:VEVENT
END:VCALENDAR
