BEGIN:VCALENDAR
VERSION:2.0
PRODID:-//Squarespace Inc/Squarespace 6//v6//EN
BEGIN:VEVENT
UID:57ea066c29687fe9a17b6513@squarespace.com
DTSTAMP:20160927T054547Z
DTSTART:20161013T223000Z
DTEND:20161014T003000Z
SUMMARY:ELLIOT WESTON
END:VEVENT
END:VCALENDAR
