BEGIN:VCALENDAR
VERSION:2.0
PRODID:-//Squarespace Inc/Squarespace 6//v6//EN
BEGIN:VEVENT
UID:57e4c501893fc0d23d34ecde@squarespace.com
DTSTAMP:20160923T060230Z
DTSTART:20161001T200000Z
DTEND:20161001T230000Z
SUMMARY:GREG STEPS DAY!
END:VEVENT
END:VCALENDAR
